BEGIN:VCALENDAR
VERSION:2.0
PRODID:-//Sutton Mariners Sailing Club - ECPv6.15.20//NONSGML v1.0//EN
CALSCALE:GREGORIAN
METHOD:PUBLISH
X-WR-CALNAME:Sutton Mariners Sailing Club
X-ORIGINAL-URL:https://suttonmariners.org.uk
X-WR-CALDESC:Events for Sutton Mariners Sailing Club
REFRESH-INTERVAL;VALUE=DURATION:PT1H
X-Robots-Tag:noindex
X-PUBLISHED-TTL:PT1H
BEGIN:VTIMEZONE
TZID:Europe/London
BEGIN:DAYLIGHT
TZOFFSETFROM:+0000
TZOFFSETTO:+0100
TZNAME:BST
DTSTART:20240331T010000
END:DAYLIGHT
BEGIN:STANDARD
TZOFFSETFROM:+0100
TZOFFSETTO:+0000
TZNAME:GMT
DTSTART:20241027T010000
END:STANDARD
BEGIN:DAYLIGHT
TZOFFSETFROM:+0000
TZOFFSETTO:+0100
TZNAME:BST
DTSTART:20250330T010000
END:DAYLIGHT
BEGIN:STANDARD
TZOFFSETFROM:+0100
TZOFFSETTO:+0000
TZNAME:GMT
DTSTART:20251026T010000
END:STANDARD
BEGIN:DAYLIGHT
TZOFFSETFROM:+0000
TZOFFSETTO:+0100
TZNAME:BST
DTSTART:20260329T010000
END:DAYLIGHT
BEGIN:STANDARD
TZOFFSETFROM:+0100
TZOFFSETTO:+0000
TZNAME:GMT
DTSTART:20261025T010000
END:STANDARD
END:VTIMEZONE
BEGIN:VEVENT
DTSTART;TZID=Europe/London:20250529T200000
DTEND;TZID=Europe/London:20250529T220000
DTSTAMP:20260421T012546
CREATED:20250428T132951Z
LAST-MODIFIED:20250428T132951Z
UID:7554-1748548800-1748556000@suttonmariners.org.uk
SUMMARY:Chris Dukes – Teams Presentations
DESCRIPTION:Chris Dukes
URL:https://suttonmariners.org.uk/events/chris-dukes-teams-presentations/
END:VEVENT
END:VCALENDAR