BEGIN:VCALENDAR
VERSION:2.0
PRODID:-//Sutton Mariners Sailing Club - ECPv6.15.20//NONSGML v1.0//EN
CALSCALE:GREGORIAN
METHOD:PUBLISH
X-WR-CALNAME:Sutton Mariners Sailing Club
X-ORIGINAL-URL:https://suttonmariners.org.uk
X-WR-CALDESC:Events for Sutton Mariners Sailing Club
REFRESH-INTERVAL;VALUE=DURATION:PT1H
X-Robots-Tag:noindex
X-PUBLISHED-TTL:PT1H
BEGIN:VTIMEZONE
TZID:Europe/London
BEGIN:DAYLIGHT
TZOFFSETFROM:+0000
TZOFFSETTO:+0100
TZNAME:BST
DTSTART:20230326T010000
END:DAYLIGHT
BEGIN:STANDARD
TZOFFSETFROM:+0100
TZOFFSETTO:+0000
TZNAME:GMT
DTSTART:20231029T010000
END:STANDARD
BEGIN:DAYLIGHT
TZOFFSETFROM:+0000
TZOFFSETTO:+0100
TZNAME:BST
DTSTART:20240331T010000
END:DAYLIGHT
BEGIN:STANDARD
TZOFFSETFROM:+0100
TZOFFSETTO:+0000
TZNAME:GMT
DTSTART:20241027T010000
END:STANDARD
BEGIN:DAYLIGHT
TZOFFSETFROM:+0000
TZOFFSETTO:+0100
TZNAME:BST
DTSTART:20250330T010000
END:DAYLIGHT
BEGIN:STANDARD
TZOFFSETFROM:+0100
TZOFFSETTO:+0000
TZNAME:GMT
DTSTART:20251026T010000
END:STANDARD
END:VTIMEZONE
BEGIN:VEVENT
DTSTART;VALUE=DATE:20240523
DTEND;VALUE=DATE:20240527
DTSTAMP:20260421T084431
CREATED:20240112T202722Z
LAST-MODIFIED:20240326T104146Z
UID:6882-1716422400-1716767999@suttonmariners.org.uk
SUMMARY:Yarmouth and Beaulieu rally
DESCRIPTION:Organiser Andrew Wood \nThursday 23rd May: Sail to Yarmouth \nFriday 24th May: A day at leisure in Yarmouth \nSaturday 25th May: Sail to Gins Farm in the Beaulieu River with a meal at the Royal Southampton Yacht Club. \nSunday 26th May: Return to home port or take advantage of the Monday Bank Holiday to visit elsewhere.
URL:https://suttonmariners.org.uk/events/yarmouth-and-beaulieu-rally/
CATEGORIES:Rally Program
END:VEVENT
BEGIN:VEVENT
DTSTART;TZID=Europe/London:20240516T200000
DTEND;TZID=Europe/London:20240516T220000
DTSTAMP:20260421T084431
CREATED:20240317T093934Z
LAST-MODIFIED:20240317T093934Z
UID:7075-1715889600-1715896800@suttonmariners.org.uk
SUMMARY:Sayings from the Sea
DESCRIPTION:Club member Len Perkins will be explaining the origins of some expressions used at sea\, some of which have come to be used in everyday speech.
URL:https://suttonmariners.org.uk/events/sayings-from-the-sea/
LOCATION:MBA Lounge\, VBS Community Stadium\, Gander Green Lane\, Sutton\, Surrey\, SM1 2EY\, United Kingdom
CATEGORIES:Club Speakers,General interest,Sutton Mariners Sailing Club,What's On
END:VEVENT
BEGIN:VEVENT
DTSTART;TZID=Europe/London:20240509T200000
DTEND;TZID=Europe/London:20240509T220000
DTSTAMP:20260421T084431
CREATED:20240321T202851Z
LAST-MODIFIED:20240413T102142Z
UID:7083-1715284800-1715292000@suttonmariners.org.uk
SUMMARY:Mariners Mates Sing-a-Long
DESCRIPTION:
URL:https://suttonmariners.org.uk/events/mariners-mates-sing-a-long/
CATEGORIES:Club Speakers,Fun
END:VEVENT
BEGIN:VEVENT
DTSTART;TZID=Europe/London:20240502T200000
DTEND;TZID=Europe/London:20240502T220000
DTSTAMP:20260421T084431
CREATED:20240321T202952Z
LAST-MODIFIED:20240426T150936Z
UID:7085-1714680000-1714687200@suttonmariners.org.uk
SUMMARY:The East Coast years (+TEAMS)
DESCRIPTION:Talk by Chris Jackson
URL:https://suttonmariners.org.uk/events/the-east-coast-years/
CATEGORIES:Club Speakers
END:VEVENT
BEGIN:VEVENT
DTSTART;TZID=Europe/London:20240425T193000
DTEND;TZID=Europe/London:20240425T203000
DTSTAMP:20260421T084431
CREATED:20240321T202637Z
LAST-MODIFIED:20240425T121424Z
UID:7068-1714073400-1714077000@suttonmariners.org.uk
SUMMARY:The Green Blue – RYA Presentation (+TEAMS)
DESCRIPTION:Webinar starts at 19:30 with big room available from 19:00 \nThe Green Blue is the joint environment programme developed by the RYA\nand British Marine. Launched in 2005\, its mission is to promote a sustainable\nleisure marine sector in the UK.\nAs a boating community we enjoy getting out on the water and experiencing\nthe beautiful environment around us. We therefore play an important role in\nhelping to protect our marine and inland waters to safeguard the wildlife and\nhabitats with which we share our boating environment.
URL:https://suttonmariners.org.uk/events/the-green-blue-rya-presentation/
CATEGORIES:Guest Speakers
END:VEVENT
BEGIN:VEVENT
DTSTART;VALUE=DATE:20240420
DTEND;VALUE=DATE:20240422
DTSTAMP:20260421T084431
CREATED:20240112T202458Z
LAST-MODIFIED:20240330T110522Z
UID:6878-1713571200-1713743999@suttonmariners.org.uk
SUMMARY:Cowes rally
DESCRIPTION:Organiser Garry Mackey \nEasy access shake down cruise \nAs many boats and crew as we can. \nPontoon drinks and fun at 15.00 bring some canapés \nMeal at Island Sailing Club at 19:00 \nLook to book into Shepards Wharf or Cowes Yacht Haven \nCan’t sail get red funnel to Cowes\, boats will put you up for night. \nMenu choices:
URL:https://suttonmariners.org.uk/events/cowes-rally/
CATEGORIES:Rally Program
END:VEVENT
END:VCALENDAR