BEGIN:VCALENDAR
VERSION:2.0
PRODID:-//Sutton Mariners Sailing Club - ECPv6.15.20//NONSGML v1.0//EN
CALSCALE:GREGORIAN
METHOD:PUBLISH
X-WR-CALNAME:Sutton Mariners Sailing Club
X-ORIGINAL-URL:https://suttonmariners.org.uk
X-WR-CALDESC:Events for Sutton Mariners Sailing Club
REFRESH-INTERVAL;VALUE=DURATION:PT1H
X-Robots-Tag:noindex
X-PUBLISHED-TTL:PT1H
BEGIN:VTIMEZONE
TZID:Europe/London
BEGIN:DAYLIGHT
TZOFFSETFROM:+0000
TZOFFSETTO:+0100
TZNAME:BST
DTSTART:20240331T010000
END:DAYLIGHT
BEGIN:STANDARD
TZOFFSETFROM:+0100
TZOFFSETTO:+0000
TZNAME:GMT
DTSTART:20241027T010000
END:STANDARD
BEGIN:DAYLIGHT
TZOFFSETFROM:+0000
TZOFFSETTO:+0100
TZNAME:BST
DTSTART:20250330T010000
END:DAYLIGHT
BEGIN:STANDARD
TZOFFSETFROM:+0100
TZOFFSETTO:+0000
TZNAME:GMT
DTSTART:20251026T010000
END:STANDARD
BEGIN:DAYLIGHT
TZOFFSETFROM:+0000
TZOFFSETTO:+0100
TZNAME:BST
DTSTART:20260329T010000
END:DAYLIGHT
BEGIN:STANDARD
TZOFFSETFROM:+0100
TZOFFSETTO:+0000
TZNAME:GMT
DTSTART:20261025T010000
END:STANDARD
END:VTIMEZONE
BEGIN:VEVENT
DTSTART;TZID=Europe/London:20250403T200000
DTEND;TZID=Europe/London:20250403T220000
DTSTAMP:20260421T024958
CREATED:20250126T114030Z
LAST-MODIFIED:20250227T100241Z
UID:7464-1743710400-1743717600@suttonmariners.org.uk
SUMMARY:River Thames Boat Project
DESCRIPTION:Hannah Bottomley
URL:https://suttonmariners.org.uk/events/to-be-announced-3/
END:VEVENT
BEGIN:VEVENT
DTSTART;TZID=Europe/London:20250410T200000
DTEND;TZID=Europe/London:20250410T220000
DTSTAMP:20260421T024958
CREATED:20250126T114239Z
LAST-MODIFIED:20250227T100315Z
UID:7468-1744315200-1744322400@suttonmariners.org.uk
SUMMARY:Discussion evening - Specific scenarios concerning safety\, navigation and manoeuvring etc.
DESCRIPTION:
URL:https://suttonmariners.org.uk/events/skippers-panel-specific-scenarios-concerning-safety-navigation-and-maneuvering-etc/
END:VEVENT
BEGIN:VEVENT
DTSTART;TZID=Europe/London:20250417T200000
DTEND;TZID=Europe/London:20250417T220000
DTSTAMP:20260421T024958
CREATED:20250126T114309Z
LAST-MODIFIED:20250126T114309Z
UID:7470-1744920000-1744927200@suttonmariners.org.uk
SUMMARY:Maundy Thursday – Social Evening
DESCRIPTION:
URL:https://suttonmariners.org.uk/events/maundy-thursday-social-evening/
END:VEVENT
BEGIN:VEVENT
DTSTART;TZID=Europe/London:20250424T200000
DTEND;TZID=Europe/London:20250424T220000
DTSTAMP:20260421T024958
CREATED:20250126T114140Z
LAST-MODIFIED:20250126T114140Z
UID:7466-1745524800-1745532000@suttonmariners.org.uk
SUMMARY:Bark Europa 2015
DESCRIPTION:Chris Roche
URL:https://suttonmariners.org.uk/events/bark-europa-2015/
END:VEVENT
BEGIN:VEVENT
DTSTART;VALUE=DATE:20250425
DTEND;VALUE=DATE:20250428
DTSTAMP:20260421T024958
CREATED:20250115T183839Z
LAST-MODIFIED:20250115T184130Z
UID:7409-1745539200-1745798399@suttonmariners.org.uk
SUMMARY:Shake down Cruise - Solent
DESCRIPTION:
URL:https://suttonmariners.org.uk/events/shake-down-cruise-solent/
CATEGORIES:Rally Program
END:VEVENT
END:VCALENDAR