BEGIN:VCALENDAR
VERSION:2.0
PRODID:-//Sutton Mariners Sailing Club - ECPv6.15.20//NONSGML v1.0//EN
CALSCALE:GREGORIAN
METHOD:PUBLISH
X-WR-CALNAME:Sutton Mariners Sailing Club
X-ORIGINAL-URL:https://suttonmariners.org.uk
X-WR-CALDESC:Events for Sutton Mariners Sailing Club
REFRESH-INTERVAL;VALUE=DURATION:PT1H
X-Robots-Tag:noindex
X-PUBLISHED-TTL:PT1H
BEGIN:VTIMEZONE
TZID:Europe/London
BEGIN:DAYLIGHT
TZOFFSETFROM:+0000
TZOFFSETTO:+0100
TZNAME:BST
DTSTART:20250330T010000
END:DAYLIGHT
BEGIN:STANDARD
TZOFFSETFROM:+0100
TZOFFSETTO:+0000
TZNAME:GMT
DTSTART:20251026T010000
END:STANDARD
BEGIN:DAYLIGHT
TZOFFSETFROM:+0000
TZOFFSETTO:+0100
TZNAME:BST
DTSTART:20260329T010000
END:DAYLIGHT
BEGIN:STANDARD
TZOFFSETFROM:+0100
TZOFFSETTO:+0000
TZNAME:GMT
DTSTART:20261025T010000
END:STANDARD
BEGIN:DAYLIGHT
TZOFFSETFROM:+0000
TZOFFSETTO:+0100
TZNAME:BST
DTSTART:20270328T010000
END:DAYLIGHT
BEGIN:STANDARD
TZOFFSETFROM:+0100
TZOFFSETTO:+0000
TZNAME:GMT
DTSTART:20271031T010000
END:STANDARD
END:VTIMEZONE
BEGIN:VEVENT
DTSTART;TZID=Europe/London:20260108T200000
DTEND;TZID=Europe/London:20260108T220000
DTSTAMP:20260420T134450
CREATED:20260101T194157Z
LAST-MODIFIED:20260101T194157Z
UID:8264-1767902400-1767909600@suttonmariners.org.uk
SUMMARY:Social Evening
DESCRIPTION:
URL:https://suttonmariners.org.uk/events/social-evening-2/
END:VEVENT
BEGIN:VEVENT
DTSTART;TZID=Europe/London:20260115T200000
DTEND;TZID=Europe/London:20260115T220000
DTSTAMP:20260420T134450
CREATED:20260102T110305Z
LAST-MODIFIED:20260102T110305Z
UID:8266-1768507200-1768514400@suttonmariners.org.uk
SUMMARY:Guest Speaker
DESCRIPTION:Dave
URL:https://suttonmariners.org.uk/events/guest-speaker/
END:VEVENT
BEGIN:VEVENT
DTSTART;TZID=Europe/London:20260122T200000
DTEND;TZID=Europe/London:20260122T220000
DTSTAMP:20260420T134450
CREATED:20260102T180351Z
LAST-MODIFIED:20260109T100146Z
UID:8270-1769112000-1769119200@suttonmariners.org.uk
SUMMARY:Burns night theme
DESCRIPTION:
URL:https://suttonmariners.org.uk/events/sky-at-night-and-navigation-lights/
END:VEVENT
BEGIN:VEVENT
DTSTART;TZID=Europe/London:20260129T200000
DTEND;TZID=Europe/London:20260129T220000
DTSTAMP:20260420T134450
CREATED:20260102T180604Z
LAST-MODIFIED:20260102T180604Z
UID:8272-1769716800-1769724000@suttonmariners.org.uk
SUMMARY:Technical Photography and post processing
DESCRIPTION:Chris Dukes
URL:https://suttonmariners.org.uk/events/technical-photography-and-post-processing/
END:VEVENT
END:VCALENDAR